BEGIN:VCALENDAR
VERSION:2.0
PRODID:-//Plone.org//NONSGML plone.app.event//EN
X-WR-TIMEZONE:Europe/Madrid
BEGIN:VEVENT
SUMMARY:Parlant amb el Pedraforca: Roca Blanca (2.289 m) i Cap del Llitzet (2.317 m)
DTSTART;TZID=Europe/Madrid;VALUE=DATE-TIME:20090222T063000
DTEND;TZID=Europe/Madrid;VALUE=DATE-TIME:20090222T073000
DTSTAMP;VALUE=DATE-TIME:20260422T195610Z
UID:e5859089ecc7a31dfad51d2856f023d8
CREATED;VALUE=DATE-TIME:20090222T000000Z
CATEGORIES:Esports
LOCATION:Plaça Comte del Montseny - Espais_Sant_Celoni_18
ORGANIZER:CESC
DESCRIPTION:Sortida de Muntanya
URL:https://www.santceloni.cat/document.php?id=3939
END:VEVENT
END:VCALENDAR