BEGIN:VCALENDAR
VERSION:2.0
PRODID:-//Plone.org//NONSGML plone.app.event//EN
X-WR-TIMEZONE:Europe/Madrid
BEGIN:VEVENT
SUMMARY:Recital literari: Itinerari de paraules, amb Montserrat Carulla
DTSTART;TZID=Europe/Madrid;VALUE=DATE-TIME:20090419T180000
DTEND;TZID=Europe/Madrid;VALUE=DATE-TIME:20090419T190000
DTSTAMP;VALUE=DATE-TIME:20260422T070938Z
UID:c518ed81b9fec497755295685720bfa5
CREATED;VALUE=DATE-TIME:20090419T000000Z
CATEGORIES:Literatura
LOCATION:Sala petita de l'Ateneu - Espais_Sant_Celoni_23
COMMENT:Preu: vegeu
Entrades i abonaments

Durada: 1 hora i 20 minuts
DESCRIPTION:Primavera a l'Ateneu 2009
URL:https://www.santceloni.cat/document.php?id=3971
END:VEVENT
END:VCALENDAR