BEGIN:VCALENDAR
VERSION:2.0
PRODID:-//Plone.org//NONSGML plone.app.event//EN
X-WR-TIMEZONE:Europe/Madrid
BEGIN:VEVENT
SUMMARY:Audició a l'Ateneu
DTSTART;TZID=Europe/Madrid;VALUE=DATE-TIME:20090224T200000
DTEND;TZID=Europe/Madrid;VALUE=DATE-TIME:20090224T210000
DTSTAMP;VALUE=DATE-TIME:20260421T143801Z
UID:1745b0036f944259b3404578cb6b6b8a
CREATED;VALUE=DATE-TIME:20090224T000000Z
CATEGORIES:Música
LOCATION:Sala petita de l'Ateneu - Espais_Sant_Celoni_23
DESCRIPTION:Audicions dels alumnes de l´escola de Música
URL:https://www.santceloni.cat/document.php?id=3975
END:VEVENT
END:VCALENDAR