BEGIN:VCALENDAR
VERSION:2.0
PRODID:-//Plone.org//NONSGML plone.app.event//EN
X-WR-TIMEZONE:Europe/Madrid
BEGIN:VEVENT
SUMMARY:Teatre: Som i serem, de Teatre de Guerrilla, a càrrec de Tramoia
DTSTART;TZID=Europe/Madrid;VALUE=DATE-TIME:20090425T220000
DTEND;TZID=Europe/Madrid;VALUE=DATE-TIME:20090425T230000
DTSTAMP;VALUE=DATE-TIME:20260422T050455Z
UID:4dd2c5624dfbc2765bc753f47f4c13f7
CREATED;VALUE=DATE-TIME:20090425T000000Z
CATEGORIES:Teatre
LOCATION:Sala petita de l'Ateneu - Espais_Sant_Celoni_23
COMMENT:Preu: 6 e
Durada: 1 hora i 15 minuts
DESCRIPTION:Primavera a l'Ateneu - Teatre i música local
URL:https://www.santceloni.cat/document.php?id=3980
END:VEVENT
END:VCALENDAR