BEGIN:VCALENDAR
VERSION:2.0
PRODID:-//Plone.org//NONSGML plone.app.event//EN
X-WR-TIMEZONE:Europe/Madrid
BEGIN:VEVENT
SUMMARY:Gran recollida d'ampolles de cava
DTSTART;TZID=Europe/Madrid;VALUE=DATE-TIME:20060114T090000
DTEND;TZID=Europe/Madrid;VALUE=DATE-TIME:20060114T100000
DTSTAMP;VALUE=DATE-TIME:20260422T063058Z
UID:ecd373b7c769e2aecf157c8ca4e271e4
CREATED;VALUE=DATE-TIME:20060114T000000Z
LOCATION:Plaça de la Vila
ORGANIZER:Agrupament Escolta Gels
COMMENT:Durada: Matí
URL:https://www.santceloni.cat/document.php?id=400
END:VEVENT
END:VCALENDAR