BEGIN:VCALENDAR
VERSION:2.0
PRODID:-//Plone.org//NONSGML plone.app.event//EN
X-WR-TIMEZONE:Europe/Madrid
BEGIN:VEVENT
SUMMARY:Ball de gitanes
DTSTART;TZID=Europe/Madrid;VALUE=DATE-TIME:20090222T120000
DTEND;TZID=Europe/Madrid;VALUE=DATE-TIME:20090222T130000
DTSTAMP;VALUE=DATE-TIME:20260422T030450Z
UID:3fda77fa0b654937516a3374a18a0797
CREATED;VALUE=DATE-TIME:20090222T000000Z
CATEGORIES:Dansa,Música
LOCATION:Plaça de la Vila - PlaçadelaVila_SantCeloni
ORGANIZER:Colla del Ferro
DESCRIPTION:Festes de Carnaval 2009
URL:https://www.santceloni.cat/document.php?id=4070
END:VEVENT
END:VCALENDAR