BEGIN:VCALENDAR
VERSION:2.0
PRODID:-//Plone.org//NONSGML plone.app.event//EN
X-WR-TIMEZONE:Europe/Madrid
BEGIN:VEVENT
SUMMARY:Ball de disfresses infantil
DTSTART;TZID=Europe/Madrid;VALUE=DATE-TIME:20090222T170000
DTEND;TZID=Europe/Madrid;VALUE=DATE-TIME:20090222T180000
DTSTAMP;VALUE=DATE-TIME:20260422T043228Z
UID:e28d5c0de6519d3fd74d43d9091bd3c5
CREATED;VALUE=DATE-TIME:20090222T000000Z
CATEGORIES:Dansa,Infantils,Música
LOCATION:Sala gran de l'Ateneu - Sala_gran_de_l'Ateneu
COMMENT:Preu: gratuït
DESCRIPTION:Festes de Carnaval 2009
URL:https://www.santceloni.cat/document.php?id=4071
END:VEVENT
END:VCALENDAR