BEGIN:VCALENDAR
VERSION:2.0
PRODID:-//Plone.org//NONSGML plone.app.event//EN
X-WR-TIMEZONE:Europe/Madrid
BEGIN:VEVENT
SUMMARY:De cap als Dolomites
DTSTART;TZID=Europe/Madrid;VALUE=DATE-TIME:20090327T213000
DTEND;TZID=Europe/Madrid;VALUE=DATE-TIME:20090327T223000
DTSTAMP;VALUE=DATE-TIME:20260419T150006Z
UID:74a57d779ea5029c3782b384073208ea
CREATED;VALUE=DATE-TIME:20090327T000000Z
CATEGORIES:Conferència
LOCATION:Biblioteca l'Escorxador - Biblioteca_l'Escorxador
ORGANIZER:CESC
DESCRIPTION:Cicle d'audiovisuals de muntanya i excursionisme
URL:https://www.santceloni.cat/document.php?id=4107
END:VEVENT
END:VCALENDAR