BEGIN:VCALENDAR
VERSION:2.0
PRODID:-//Plone.org//NONSGML plone.app.event//EN
X-WR-TIMEZONE:Europe/Madrid
BEGIN:VEVENT
SUMMARY:Curs d'escalada en roca, nivell I
DTSTART;TZID=Europe/Madrid;VALUE=DATE-TIME:20090301T235900
DTEND;TZID=Europe/Madrid;VALUE=DATE-TIME:20090302T005900
DTSTAMP;VALUE=DATE-TIME:20260422T202209Z
UID:6ced0eada3dda61523e6cca2dfb0a914
CREATED;VALUE=DATE-TIME:20090301T000000Z
CATEGORIES:Cursos
LOCATION:Locals del CESC i del CEP + sortides
ORGANIZER:GAE del CESC
DESCRIPTION:Grup d'Alpinisme i Escalada
URL:https://www.santceloni.cat/document.php?id=4109
END:VEVENT
END:VCALENDAR