BEGIN:VCALENDAR
VERSION:2.0
PRODID:-//Plone.org//NONSGML plone.app.event//EN
X-WR-TIMEZONE:Europe/Madrid
BEGIN:VEVENT
SUMMARY:Donació de sang
DTSTART;TZID=Europe/Madrid;VALUE=DATE-TIME:20090307T100000
DTEND;TZID=Europe/Madrid;VALUE=DATE-TIME:20090307T110000
DTSTAMP;VALUE=DATE-TIME:20260422T235744Z
UID:4dba2448bf64abef2a692181f6abaa07
CREATED;VALUE=DATE-TIME:20090307T000000Z
LOCATION:Can Ramis - Plaça de la Vila, 25
ORGANIZER:Creu Roja Sant Celoni i A. de Donants de Sang del Vallès Or.
COMMENT:Durada: de 10 a 2 del migdia
DESCRIPTION:Aquest cap de setmana, a Can Ramis
URL:https://www.santceloni.cat/document.php?id=4139
END:VEVENT
END:VCALENDAR