BEGIN:VCALENDAR
VERSION:2.0
PRODID:-//Plone.org//NONSGML plone.app.event//EN
X-WR-TIMEZONE:Europe/Madrid
BEGIN:VEVENT
SUMMARY:II Festival de danses orientals
DTSTART;TZID=Europe/Madrid;VALUE=DATE-TIME:20090322T190000
DTEND;TZID=Europe/Madrid;VALUE=DATE-TIME:20090322T200000
DTSTAMP;VALUE=DATE-TIME:20260422T063043Z
UID:e38a32709d304e10d4dea453cbd50e93
CREATED;VALUE=DATE-TIME:20090322T000000Z
CATEGORIES:Dansa
LOCATION:Sala gran de l'Ateneu - Sala_gran_de_l'Ateneu
ORGANIZER:Club de ball Celodance
COMMENT:Preu: 4 &euro;
DESCRIPTION:Grups de dansa turca, egipcia, del ventre i altres, a l'Ateneu
URL:https://www.santceloni.cat/document.php?id=4152
END:VEVENT
END:VCALENDAR