BEGIN:VCALENDAR
VERSION:2.0
PRODID:-//Plone.org//NONSGML plone.app.event//EN
X-WR-TIMEZONE:Europe/Madrid
BEGIN:VEVENT
SUMMARY:Els objectius del Mil·lenni en temps de crisi
Conferència i sopar solidari
DTSTART;TZID=Europe/Madrid;VALUE=DATE-TIME:20090327T200000
DTEND;TZID=Europe/Madrid;VALUE=DATE-TIME:20090327T210000
DTSTAMP;VALUE=DATE-TIME:20260421T205813Z
UID:25e14f06eaf3833ac3581606793545b9
CREATED;VALUE=DATE-TIME:20090327T000000Z
CATEGORIES:Festa,Conferència
LOCATION:Caixa Manlleu - Carrer Sant Josep, 87
ORGANIZER:Ajuntament de Sant Celoni i Coordinadora d'Entitats Solidàries
COMMENT:Preu: gratuït
DESCRIPTION:Setmana per la Pau
URL:https://www.santceloni.cat/document.php?id=4174
END:VEVENT
END:VCALENDAR