BEGIN:VCALENDAR
VERSION:2.0
PRODID:-//Plone.org//NONSGML plone.app.event//EN
X-WR-TIMEZONE:Europe/Madrid
BEGIN:VEVENT
SUMMARY:Inauguració exposició: El treball. Sant Celoni anys 1950-1970
DTSTART;TZID=Europe/Madrid;VALUE=DATE-TIME:20090327T190000
DTEND;TZID=Europe/Madrid;VALUE=DATE-TIME:20090327T200000
DTSTAMP;VALUE=DATE-TIME:20260421T155942Z
UID:7ce91b864312d662556a8402c2def500
CREATED;VALUE=DATE-TIME:20090327T000000Z
CATEGORIES:Exposició
LOCATION:Rectoria Vella - Edifici_Rectoria_Vella
COMMENT:Preu: gratuït
DESCRIPTION:Fotografies de Josep M. Cortina
URL:https://www.santceloni.cat/document.php?id=4183
END:VEVENT
END:VCALENDAR