BEGIN:VCALENDAR
VERSION:2.0
PRODID:-//Plone.org//NONSGML plone.app.event//EN
X-WR-TIMEZONE:Europe/Madrid
BEGIN:VEVENT
SUMMARY:Concert de piano
DTSTART;TZID=Europe/Madrid;VALUE=DATE-TIME:20090407T190000
DTEND;TZID=Europe/Madrid;VALUE=DATE-TIME:20090407T200000
DTSTAMP;VALUE=DATE-TIME:20260422T075047Z
UID:fc1dbe599bc2f392c0134b7b634280ef
CREATED;VALUE=DATE-TIME:20090407T000000Z
CATEGORIES:Música
LOCATION:Sala petita de l'Ateneu - Espais_Sant_Celoni_23
ORGANIZER:Escola de Música Grau
COMMENT:Preu: adults 6 &euro;, nens gratuït
DESCRIPTION:a càrrec de Salvatore Spanò
URL:https://www.santceloni.cat/document.php?id=4187
END:VEVENT
END:VCALENDAR