BEGIN:VCALENDAR
VERSION:2.0
PRODID:-//Plone.org//NONSGML plone.app.event//EN
X-WR-TIMEZONE:Europe/Madrid
BEGIN:VEVENT
SUMMARY:Castell de la Popa (Castell de Castellcir)
DTSTART;TZID=Europe/Madrid;VALUE=DATE-TIME:20090419T083000
DTEND;TZID=Europe/Madrid;VALUE=DATE-TIME:20090419T093000
DTSTAMP;VALUE=DATE-TIME:20260422T022026Z
UID:c3ef17d308d6d8d4af4ddcd445810ae5
CREATED;VALUE=DATE-TIME:20090419T000000Z
CATEGORIES:Esports
LOCATION:Plaça Comte del Montseny - Espais_Sant_Celoni_18
ORGANIZER:CESC
DESCRIPTION:Sortida Matinal de Natura i Paisatge
URL:https://www.santceloni.cat/document.php?id=4200
END:VEVENT
END:VCALENDAR