BEGIN:VCALENDAR
VERSION:2.0
PRODID:-//Plone.org//NONSGML plone.app.event//EN
X-WR-TIMEZONE:Europe/Madrid
BEGIN:VEVENT
SUMMARY:Jardí Botànic Marimurtra de Blanes
DTSTART;TZID=Europe/Madrid;VALUE=DATE-TIME:20090516T090000
DTEND;TZID=Europe/Madrid;VALUE=DATE-TIME:20090516T100000
DTSTAMP;VALUE=DATE-TIME:20260421T211615Z
UID:7fecb7432a242d841f4aa0444c1b97fa
CREATED;VALUE=DATE-TIME:20090516T000000Z
LOCATION:Plaça Comte del Montseny - Espais_Sant_Celoni_18
COMMENT:Preu: 20 &euro;
Durada: tornada a 2/4 de 2 del migdia, aproximadament
DESCRIPTION:Sortides culturals 2009
URL:https://www.santceloni.cat/document.php?id=4232
END:VEVENT
END:VCALENDAR