BEGIN:VCALENDAR
VERSION:2.0
PRODID:-//Plone.org//NONSGML plone.app.event//EN
X-WR-TIMEZONE:Europe/Madrid
BEGIN:VEVENT
SUMMARY:Tornem cantant Caramelles
DTSTART;TZID=Europe/Madrid;VALUE=DATE-TIME:20090411T180000
DTEND;TZID=Europe/Madrid;VALUE=DATE-TIME:20090411T190000
DTSTAMP;VALUE=DATE-TIME:20260421T131547Z
UID:f59341b1f661fad000fab3f9bdc2ee29
CREATED;VALUE=DATE-TIME:20090411T000000Z
CATEGORIES:Música
LOCATION:Plaça de la Vila - PlaçadelaVila_SantCeloni
DESCRIPTION:Sant Jordi 2009
URL:https://www.santceloni.cat/document.php?id=4238
END:VEVENT
END:VCALENDAR