BEGIN:VCALENDAR
VERSION:2.0
PRODID:-//Plone.org//NONSGML plone.app.event//EN
X-WR-TIMEZONE:Europe/Madrid
BEGIN:VEVENT
SUMMARY:El Centre Popular de Sant Celoni
DTSTART;TZID=Europe/Madrid;VALUE=DATE-TIME:20090418T190000
DTEND;TZID=Europe/Madrid;VALUE=DATE-TIME:20090418T200000
DTSTAMP;VALUE=DATE-TIME:20260421T225130Z
UID:a490dd4e8a6ab26350620b7caccc3597
CREATED;VALUE=DATE-TIME:20090418T000000Z
CATEGORIES:Conferència
LOCATION:Rectoria Vella - Edifici_Rectoria_Vella
DESCRIPTION:Presentació del llibre de Josep Llovera editat per l'Ajuntament
URL:https://www.santceloni.cat/document.php?id=4245
END:VEVENT
END:VCALENDAR