BEGIN:VCALENDAR
VERSION:2.0
PRODID:-//Plone.org//NONSGML plone.app.event//EN
X-WR-TIMEZONE:Europe/Madrid
BEGIN:VEVENT
SUMMARY:Sot de Bocs: la petja humana
DTSTART;TZID=Europe/Madrid;VALUE=DATE-TIME:20090419T090000
DTEND;TZID=Europe/Madrid;VALUE=DATE-TIME:20090419T100000
DTSTAMP;VALUE=DATE-TIME:20260421T180827Z
UID:2e7bf23357fed223e9f839df16c29b06
CREATED;VALUE=DATE-TIME:20090419T000000Z
LOCATION:Estació RENFE Sant Celoni - Plaça de l'Estació
COMMENT:Durada: 4 hores
DESCRIPTION:Passejada guiada, a càrrec de l'Escola de Natura del Corredor
URL:https://www.santceloni.cat/document.php?id=4246
END:VEVENT
END:VCALENDAR