BEGIN:VCALENDAR
VERSION:2.0
PRODID:-//Plone.org//NONSGML plone.app.event//EN
X-WR-TIMEZONE:Europe/Madrid
BEGIN:VEVENT
SUMMARY:Mostra de dansa
DTSTART;TZID=Europe/Madrid;VALUE=DATE-TIME:20090425T120000
DTEND;TZID=Europe/Madrid;VALUE=DATE-TIME:20090425T130000
DTSTAMP;VALUE=DATE-TIME:20260422T132302Z
UID:e55cb6e9adb383efc635bb89c85c7ebb
CREATED;VALUE=DATE-TIME:20090425T000000Z
CATEGORIES:Dansa
LOCATION:Plaça de la Vila - PlaçadelaVila_SantCeloni
ORGANIZER:Escola de dansa Esther Cortés
DESCRIPTION:a càrrec de l'Escola de dansa Esther Cortés
URL:https://www.santceloni.cat/document.php?id=4258
END:VEVENT
END:VCALENDAR