BEGIN:VCALENDAR
VERSION:2.0
PRODID:-//Plone.org//NONSGML plone.app.event//EN
X-WR-TIMEZONE:Europe/Madrid
BEGIN:VEVENT
SUMMARY:Plantem el Sant Celoni del futur
DTSTART;TZID=Europe/Madrid;VALUE=DATE-TIME:20090516T193000
DTEND;TZID=Europe/Madrid;VALUE=DATE-TIME:20090516T203000
DTSTAMP;VALUE=DATE-TIME:20260421T131602Z
UID:70eee45151a3317215a797489e0c35af
CREATED;VALUE=DATE-TIME:20090516T000000Z
CATEGORIES:Conferència
LOCATION:Sala d'actes rectoria Vella - Espais_Sant_Celoni_02
ORGANIZER:CUP
DESCRIPTION:Jornades al Baix Montseny, reflexions per a un nou model territorial
URL:https://www.santceloni.cat/document.php?id=4361
END:VEVENT
END:VCALENDAR