BEGIN:VCALENDAR
VERSION:2.0
PRODID:-//Plone.org//NONSGML plone.app.event//EN
X-WR-TIMEZONE:Europe/Madrid
BEGIN:VEVENT
SUMMARY:L'Hora dels nadons, amb Olga Cercós
DTSTART;TZID=Europe/Madrid;VALUE=DATE-TIME:20090731T180000
DTEND;TZID=Europe/Madrid;VALUE=DATE-TIME:20090731T190000
DTSTAMP;VALUE=DATE-TIME:20260424T191621Z
UID:9de8e1c22f4d71f5f18f41b37acd42f5
CREATED;VALUE=DATE-TIME:20090731T000000Z
CATEGORIES:Literatura,Infantils
LOCATION:Biblioteca l'Escorxador - Biblioteca_l'Escorxador
DESCRIPTION:Petita hora del conte: contes per menuts
URL:https://www.santceloni.cat/document.php?id=4495
END:VEVENT
END:VCALENDAR