BEGIN:VCALENDAR
VERSION:2.0
PRODID:-//Plone.org//NONSGML plone.app.event//EN
X-WR-TIMEZONE:Europe/Madrid
BEGIN:VEVENT
SUMMARY:Festival de patinatge artístic
DTSTART;TZID=Europe/Madrid;VALUE=DATE-TIME:20090627T220000
DTEND;TZID=Europe/Madrid;VALUE=DATE-TIME:20090627T230000
DTSTAMP;VALUE=DATE-TIME:20260419T175045Z
UID:1b2fe2daff7f4d3d7a42137adebd8185
CREATED;VALUE=DATE-TIME:20090627T000000Z
CATEGORIES:Esports
LOCATION:Pista coberta Camp Municipal d'Esports - Espais_Sant_Celoni_15
ORGANIZER:Club patí Sant Celoni
DESCRIPTION:Club patí Sant Celoni
URL:https://www.santceloni.cat/document.php?id=4560
END:VEVENT
END:VCALENDAR