BEGIN:VCALENDAR
VERSION:2.0
PRODID:-//Plone.org//NONSGML plone.app.event//EN
X-WR-TIMEZONE:Europe/Madrid
BEGIN:VEVENT
SUMMARY:11 de Setembre a Montserrat
DTSTART;TZID=Europe/Madrid;VALUE=DATE-TIME:20090911T073000
DTEND;TZID=Europe/Madrid;VALUE=DATE-TIME:20090911T083000
DTSTAMP;VALUE=DATE-TIME:20260422T001345Z
UID:a87a3c6288a65af0b1ce49911875fba0
CREATED;VALUE=DATE-TIME:20090911T000000Z
CATEGORIES:Esports,Festa
LOCATION:Plaça Comte del Montseny - Espais_Sant_Celoni_18
ORGANIZER:CESC
DESCRIPTION:Sortida festiva del CESC per a totes les seccions.
URL:https://www.santceloni.cat/document.php?id=4594
END:VEVENT
END:VCALENDAR