BEGIN:VCALENDAR
VERSION:2.0
PRODID:-//Plone.org//NONSGML plone.app.event//EN
X-WR-TIMEZONE:Europe/Madrid
BEGIN:VEVENT
SUMMARY:Caminada de Sant Celoni a Vic
DTSTART;TZID=Europe/Madrid;VALUE=DATE-TIME:20090820T073000
DTEND;TZID=Europe/Madrid;VALUE=DATE-TIME:20090820T083000
DTSTAMP;VALUE=DATE-TIME:20260422T072956Z
UID:1a4a01dec992e4ea31433f0772825300
CREATED;VALUE=DATE-TIME:20090820T000000Z
CATEGORIES:Esports,Mostra
LOCATION:Estació RENFE - plaça de l'estació
COMMENT:Durada: del 20 al 26 d'agost
DESCRIPTION:Tram del Montseny del Camí: itineraris a peu per les terres de parla catalana
URL:https://www.santceloni.cat/document.php?id=4710
END:VEVENT
END:VCALENDAR