BEGIN:VCALENDAR
VERSION:2.0
PRODID:-//Plone.org//NONSGML plone.app.event//EN
X-WR-TIMEZONE:Europe/Madrid
BEGIN:VEVENT
SUMMARY:II Memorial José Luís Sánchez
DTSTART;TZID=Europe/Madrid;VALUE=DATE-TIME:20090911T083000
DTEND;TZID=Europe/Madrid;VALUE=DATE-TIME:20090911T093000
DTSTAMP;VALUE=DATE-TIME:20260422T002823Z
UID:563a9678774f42d0a4632f66a36ea2e7
CREATED;VALUE=DATE-TIME:20090911T000000Z
CATEGORIES:Esports
LOCATION:Pistes municipals de petanca - Espais_Sant_Celoni_14
ORGANIZER:Club Petanca les Borrelles
DESCRIPTION:Torneig de petanca
URL:https://www.santceloni.cat/document.php?id=4719
END:VEVENT
END:VCALENDAR