BEGIN:VCALENDAR
VERSION:2.0
PRODID:-//Plone.org//NONSGML plone.app.event//EN
X-WR-TIMEZONE:Europe/Madrid
BEGIN:VEVENT
SUMMARY:X Torneig de tennis taula de Festa Major
DTSTART;TZID=Europe/Madrid;VALUE=DATE-TIME:20090913T090000
DTEND;TZID=Europe/Madrid;VALUE=DATE-TIME:20090913T100000
DTSTAMP;VALUE=DATE-TIME:20260422T084757Z
UID:b4cff618afe5bef91ecbf87d106828a0
CREATED;VALUE=DATE-TIME:20090913T000000Z
CATEGORIES:Esports
LOCATION:Pavelló Municipal d'Esports - Pavelló_Municipal_d'Esports
ORGANIZER:Club Amics Tennis Taula Sant Celoni
DESCRIPTION:Torneig obert
URL:https://www.santceloni.cat/document.php?id=4720
END:VEVENT
END:VCALENDAR