BEGIN:VCALENDAR
VERSION:2.0
PRODID:-//Plone.org//NONSGML plone.app.event//EN
X-WR-TIMEZONE:Europe/Madrid
BEGIN:VEVENT
SUMMARY:Diada Nacional de Catalunya
DTSTART;TZID=Europe/Madrid;VALUE=DATE-TIME:20090911T120000
DTEND;TZID=Europe/Madrid;VALUE=DATE-TIME:20090911T130000
DTSTAMP;VALUE=DATE-TIME:20260422T023321Z
UID:ccac44032474ba61cf2405065c2c30bd
CREATED;VALUE=DATE-TIME:20090911T000000Z
LOCATION:Passeig 11 de setembre - Espais_Sant_Celoni_24
ORGANIZER:Ajuntament de Sant Celoni
DESCRIPTION:Manifest, ofrena floral i cant d'Els segadors
URL:https://www.santceloni.cat/document.php?id=4774
END:VEVENT
END:VCALENDAR