BEGIN:VCALENDAR
VERSION:2.0
PRODID:-//Plone.org//NONSGML plone.app.event//EN
X-WR-TIMEZONE:Europe/Madrid
BEGIN:VEVENT
SUMMARY:Cinema: Hacia rutas salvajes, de Sean Penn
DTSTART;TZID=Europe/Madrid;VALUE=DATE-TIME:20091206T180000
DTEND;TZID=Europe/Madrid;VALUE=DATE-TIME:20091206T190000
DTSTAMP;VALUE=DATE-TIME:20260422T131209Z
UID:15bd8a683f2a113a98d75f95a54a2977
CREATED;VALUE=DATE-TIME:20091206T000000Z
CATEGORIES:Cinema
LOCATION:Sala petita de l'Ateneu - Espais_Sant_Celoni_23
COMMENT:Preu: gratuït
DESCRIPTION:Cinema a l'Ateneu 2009-10
URL:https://www.santceloni.cat/document.php?id=4904
END:VEVENT
END:VCALENDAR