BEGIN:VCALENDAR
VERSION:2.0
PRODID:-//Plone.org//NONSGML plone.app.event//EN
X-WR-TIMEZONE:Europe/Madrid
BEGIN:VEVENT
SUMMARY:Cinema: Les noies de la llenceria, de Bettina Oberli
DTSTART;TZID=Europe/Madrid;VALUE=DATE-TIME:20100221T180000
DTEND;TZID=Europe/Madrid;VALUE=DATE-TIME:20100221T190000
DTSTAMP;VALUE=DATE-TIME:20260422T114040Z
UID:c2c20ba78d5bcad697c28d2e9b67d4c1
CREATED;VALUE=DATE-TIME:20100221T000000Z
CATEGORIES:Cinema
LOCATION:Sala petita de l'Ateneu - Espais_Sant_Celoni_23
COMMENT:Preu: gratuït
DESCRIPTION:Cinema a l'Ateneu 2009-10
URL:https://www.santceloni.cat/document.php?id=4909
END:VEVENT
END:VCALENDAR