BEGIN:VCALENDAR
VERSION:2.0
PRODID:-//Plone.org//NONSGML plone.app.event//EN
X-WR-TIMEZONE:Europe/Madrid
BEGIN:VEVENT
SUMMARY:Presentació dels equips del CESC
DTSTART;TZID=Europe/Madrid;VALUE=DATE-TIME:20091122T130000
DTEND;TZID=Europe/Madrid;VALUE=DATE-TIME:20091122T140000
DTSTAMP;VALUE=DATE-TIME:20260424T232705Z
UID:4aabdfa0184fe3e5afaab02c2e7eec88
CREATED;VALUE=DATE-TIME:20091122T000000Z
CATEGORIES:Esports
LOCATION:Camp Municipal d'esports - Camp_Municipal_d'Esports
ORGANIZER:Club Esportiu Sant Celoni
DESCRIPTION:I dinar popular
URL:https://www.santceloni.cat/document.php?id=5097
END:VEVENT
END:VCALENDAR