BEGIN:VCALENDAR
VERSION:2.0
PRODID:-//Plone.org//NONSGML plone.app.event//EN
X-WR-TIMEZONE:Europe/Madrid
BEGIN:VEVENT
SUMMARY:Cavalcada dels Reis d'Orient
DTSTART;TZID=Europe/Madrid;VALUE=DATE-TIME:20100105T180000
DTEND;TZID=Europe/Madrid;VALUE=DATE-TIME:20100105T190000
DTSTAMP;VALUE=DATE-TIME:20260425T005155Z
UID:bd4da0124c500724b2fc2ec8ae046edc
CREATED;VALUE=DATE-TIME:20100105T000000Z
CATEGORIES:Festa,Infantils
LOCATION:Plaça Comte del Montseny - Espais_Sant_Celoni_18
COMMENT:Durada: Fins a 2/4 de 8 del vespre, aproximadament
DESCRIPTION:Festes d'hivern
URL:https://www.santceloni.cat/document.php?id=5291
END:VEVENT
END:VCALENDAR