BEGIN:VCALENDAR
VERSION:2.0
PRODID:-//Plone.org//NONSGML plone.app.event//EN
X-WR-TIMEZONE:Europe/Madrid
BEGIN:VEVENT
SUMMARY:Sessions'n'sona 2010
DTSTART;TZID=Europe/Madrid;VALUE=DATE-TIME:20100109T230000
DTEND;TZID=Europe/Madrid;VALUE=DATE-TIME:20100110T000000
DTSTAMP;VALUE=DATE-TIME:20260425T043244Z
UID:eb16e9aad4a8d3b5d3680a91f418739f
CREATED;VALUE=DATE-TIME:20100109T000000Z
CATEGORIES:Música
LOCATION:Sala petita de l'Ateneu - Espais_Sant_Celoni_23
DESCRIPTION:Batalla Final + Caníbales Podridos + grup convidat
URL:https://www.santceloni.cat/document.php?id=5298
END:VEVENT
END:VCALENDAR