BEGIN:VCALENDAR
VERSION:2.0
PRODID:-//Plone.org//NONSGML plone.app.event//EN
X-WR-TIMEZONE:Europe/Madrid
BEGIN:VEVENT
SUMMARY:Teatre: Truca un inspector, de J. B. Priestley
DTSTART;TZID=Europe/Madrid;VALUE=DATE-TIME:20100320T220000
DTEND;TZID=Europe/Madrid;VALUE=DATE-TIME:20100320T230000
DTSTAMP;VALUE=DATE-TIME:20260425T032238Z
UID:b56d714208de4ec9cff46fffc4734822
CREATED;VALUE=DATE-TIME:20100320T000000Z
CATEGORIES:Teatre
LOCATION:Sala gran de l'Ateneu - Sala_gran_de_l'Ateneu
COMMENT:Preu: 6 &euro;
DESCRIPTION:a càrrec de Rebrot Teatre
URL:https://www.santceloni.cat/document.php?id=5370
END:VEVENT
END:VCALENDAR