BEGIN:VCALENDAR
VERSION:2.0
PRODID:-//Plone.org//NONSGML plone.app.event//EN
X-WR-TIMEZONE:Europe/Madrid
BEGIN:VEVENT
SUMMARY:De Sant Martí a Santa Maria de Montnegre
DTSTART;TZID=Europe/Madrid;VALUE=DATE-TIME:20100221T080000
DTEND;TZID=Europe/Madrid;VALUE=DATE-TIME:20100221T090000
DTSTAMP;VALUE=DATE-TIME:20260425T032223Z
UID:46734d1d6dc119b29187035691ac1c10
CREATED;VALUE=DATE-TIME:20100221T000000Z
CATEGORIES:Esports
LOCATION:Plaça Comte del Montseny - Espais_Sant_Celoni_18
DESCRIPTION:Sortida de Natura del CESC
URL:https://www.santceloni.cat/document.php?id=5500
END:VEVENT
END:VCALENDAR