BEGIN:VCALENDAR
VERSION:2.0
PRODID:-//Plone.org//NONSGML plone.app.event//EN
X-WR-TIMEZONE:Europe/Madrid
BEGIN:VEVENT
SUMMARY:Rebaixes al Carrer
DTSTART;TZID=Europe/Madrid;VALUE=DATE-TIME:20100130T100000
DTEND;TZID=Europe/Madrid;VALUE=DATE-TIME:20100130T110000
DTSTAMP;VALUE=DATE-TIME:20260422T001621Z
UID:ed0091045d0baf76ab6207a6e566db15
CREATED;VALUE=DATE-TIME:20100130T000000Z
LOCATION:Plaça de la Vila - PlaçadelaVila_SantCeloni
ORGANIZER:Sant Celoni Comerç
DESCRIPTION:Liquidació d'articles de les botigues del cente de la vila
URL:https://www.santceloni.cat/document.php?id=5506
END:VEVENT
END:VCALENDAR