BEGIN:VCALENDAR
VERSION:2.0
PRODID:-//Plone.org//NONSGML plone.app.event//EN
X-WR-TIMEZONE:Europe/Madrid
BEGIN:VEVENT
SUMMARY:Futbol Base del CE Sant Celoni
DTSTART;TZID=Europe/Madrid;VALUE=DATE-TIME:20100221T111500
DTEND;TZID=Europe/Madrid;VALUE=DATE-TIME:20100221T121500
DTSTAMP;VALUE=DATE-TIME:20260425T032250Z
UID:d691eae0a72c36055e5dfe9f6b768b49
CREATED;VALUE=DATE-TIME:20100221T000000Z
CATEGORIES:Esports
LOCATION:Camp Municipal d'esports - Camp_Municipal_d'Esports
ORGANIZER:CE Sant Celoni
COMMENT:Preu: gratuït
DESCRIPTION:Jornada 17: Aleví-Benjamí (femení)
URL:https://www.santceloni.cat/document.php?id=5559
END:VEVENT
END:VCALENDAR