BEGIN:VCALENDAR
VERSION:2.0
PRODID:-//Plone.org//NONSGML plone.app.event//EN
X-WR-TIMEZONE:Europe/Madrid
BEGIN:VEVENT
SUMMARY:Rua de Carnaval
DTSTART;TZID=Europe/Madrid;VALUE=DATE-TIME:20060225T173000
DTEND;TZID=Europe/Madrid;VALUE=DATE-TIME:20060225T183000
DTSTAMP;VALUE=DATE-TIME:20260422T062652Z
UID:041461519d495987ee21b26e6d9e2a6f
CREATED;VALUE=DATE-TIME:20060225T000000Z
CATEGORIES:Festa
URL:https://www.santceloni.cat/document.php?id=577
END:VEVENT
END:VCALENDAR