BEGIN:VCALENDAR
VERSION:2.0
PRODID:-//Plone.org//NONSGML plone.app.event//EN
X-WR-TIMEZONE:Europe/Madrid
BEGIN:VEVENT
SUMMARY:El Posets, per la cresta de Las Espadas
DTSTART;TZID=Europe/Madrid;VALUE=DATE-TIME:20100522T060000
DTEND;TZID=Europe/Madrid;VALUE=DATE-TIME:20100522T070000
DTSTAMP;VALUE=DATE-TIME:20260425T032407Z
UID:1f664b9d0a61d97ca6a30d4967a6487e
CREATED;VALUE=DATE-TIME:20100522T000000Z
CATEGORIES:Esports
LOCATION:Plaça Comte del Montseny - Espais_Sant_Celoni_18
ORGANIZER:CESC
COMMENT:Durada: Cap de setmana
DESCRIPTION:Activitats del CESC: Alta Muntanya
URL:https://www.santceloni.cat/document.php?id=5781
END:VEVENT
END:VCALENDAR