BEGIN:VCALENDAR
VERSION:2.0
PRODID:-//Plone.org//NONSGML plone.app.event//EN
X-WR-TIMEZONE:Europe/Madrid
BEGIN:VEVENT
SUMMARY:Ball de disfresses amb la Gira-Sol
DTSTART;TZID=Europe/Madrid;VALUE=DATE-TIME:20060225T223000
DTEND;TZID=Europe/Madrid;VALUE=DATE-TIME:20060225T233000
DTSTAMP;VALUE=DATE-TIME:20260422T001540Z
UID:38c0158dc69d35148ac8cc458e398d02
CREATED;VALUE=DATE-TIME:20060225T000000Z
CATEGORIES:Festa
LOCATION:Pavelló Municipal d'Esports
COMMENT:Preu: 4 euros
URL:https://www.santceloni.cat/document.php?id=579
END:VEVENT
END:VCALENDAR