BEGIN:VCALENDAR
VERSION:2.0
PRODID:-//Plone.org//NONSGML plone.app.event//EN
X-WR-TIMEZONE:Europe/Madrid
BEGIN:VEVENT
SUMMARY:Nit de lletres
DTSTART;TZID=Europe/Madrid;VALUE=DATE-TIME:20100521T210000
DTEND;TZID=Europe/Madrid;VALUE=DATE-TIME:20100521T220000
DTSTAMP;VALUE=DATE-TIME:20260425T032125Z
UID:aa00252188532a97deed19b786a10dff
CREATED;VALUE=DATE-TIME:20100521T000000Z
CATEGORIES:Literatura
LOCATION:Hotel Suís - Hotel_Suís
ORGANIZER:Biblioteca l'Escorxador
DESCRIPTION:Un món desajustat, d'Amin Maalouf
URL:https://www.santceloni.cat/document.php?id=5897
END:VEVENT
END:VCALENDAR