BEGIN:VCALENDAR
VERSION:2.0
PRODID:-//Plone.org//NONSGML plone.app.event//EN
X-WR-TIMEZONE:Europe/Madrid
BEGIN:VEVENT
SUMMARY:Presentació de la ruta saludable de Sant Celoni
DTSTART;TZID=Europe/Madrid;VALUE=DATE-TIME:20100606T103000
DTEND;TZID=Europe/Madrid;VALUE=DATE-TIME:20100606T113000
DTSTAMP;VALUE=DATE-TIME:20260425T055527Z
UID:967f2458716ba992c1891f06e6255f8f
CREATED;VALUE=DATE-TIME:20100606T000000Z
CATEGORIES:Esports
LOCATION:Plaça Comte del Montseny - Espais_Sant_Celoni_18
ORGANIZER:Departament de Salut i Secretaria General de l'Esport de la Generalitat
COMMENT:Durada: 40 minuts
DESCRIPTION:Programa d'Activitat Física, Esport i Salut (PAFES)
URL:https://www.santceloni.cat/document.php?id=5964
END:VEVENT
END:VCALENDAR