BEGIN:VCALENDAR
VERSION:2.0
PRODID:-//Plone.org//NONSGML plone.app.event//EN
X-WR-TIMEZONE:Europe/Madrid
BEGIN:VEVENT
SUMMARY:Nit de lletres
DTSTART;TZID=Europe/Madrid;VALUE=DATE-TIME:20060317T210000
DTEND;TZID=Europe/Madrid;VALUE=DATE-TIME:20060317T220000
DTSTAMP;VALUE=DATE-TIME:20260422T132317Z
UID:7f7f70adf031fe6692ddbd3756477943
CREATED;VALUE=DATE-TIME:20060317T000000Z
CATEGORIES:Literatura
LOCATION:Hotel Suís
ORGANIZER:Biblioteca l'Escorxador
DESCRIPTION:Tertúlia literària a l'Hotel Suís
URL:https://www.santceloni.cat/document.php?id=599
END:VEVENT
END:VCALENDAR