BEGIN:VCALENDAR
VERSION:2.0
PRODID:-//Plone.org//NONSGML plone.app.event//EN
X-WR-TIMEZONE:Europe/Madrid
BEGIN:VEVENT
SUMMARY:Sortida de Natura i Cultura
DTSTART;TZID=Europe/Madrid;VALUE=DATE-TIME:20060319T080000
DTEND;TZID=Europe/Madrid;VALUE=DATE-TIME:20060319T090000
DTSTAMP;VALUE=DATE-TIME:20260422T071928Z
UID:033b48ea9147ce83af2ea788aea509cb
CREATED;VALUE=DATE-TIME:20060319T000000Z
CATEGORIES:Esports
LOCATION:ESTACIÓ DE LA RENFE
ORGANIZER:CESC
COMMENT:Preu: 7,50 &euro;
DESCRIPTION:Visita al Museu del ferrocarril de Vilanova i la Geltrú i Caminada fins a Sitges
URL:https://www.santceloni.cat/document.php?id=602
END:VEVENT
END:VCALENDAR