BEGIN:VCALENDAR
VERSION:2.0
PRODID:-//Plone.org//NONSGML plone.app.event//EN
X-WR-TIMEZONE:Europe/Madrid
BEGIN:VEVENT
SUMMARY:Sortida d'Alta Muntanya
DTSTART;TZID=Europe/Madrid;VALUE=DATE-TIME:20060318T020000
DTEND;TZID=Europe/Madrid;VALUE=DATE-TIME:20060318T030000
DTSTAMP;VALUE=DATE-TIME:20260422T095908Z
UID:52c49f31b4ce3f26b6e7036aa7b2840c
CREATED;VALUE=DATE-TIME:20060318T000000Z
CATEGORIES:Esports
LOCATION:Al CESC (C/ Sant Antoni, 6)
ORGANIZER:CESC
DESCRIPTION:CRESTA DELS BESIBERRI
URL:https://www.santceloni.cat/document.php?id=603
END:VEVENT
END:VCALENDAR