BEGIN:VCALENDAR
VERSION:2.0
PRODID:-//Plone.org//NONSGML plone.app.event//EN
X-WR-TIMEZONE:Europe/Madrid
BEGIN:VEVENT
SUMMARY:Teatre: Lisístrata, d'Aristòfanes
DTSTART;TZID=Europe/Madrid;VALUE=DATE-TIME:20100612T220000
DTEND;TZID=Europe/Madrid;VALUE=DATE-TIME:20100612T230000
DTSTAMP;VALUE=DATE-TIME:20260425T045141Z
UID:d346092c87a3cb9b80f00d95f39a67d6
CREATED;VALUE=DATE-TIME:20100612T000000Z
CATEGORIES:Teatre
LOCATION:Sala gran de l'Ateneu - Sala_gran_de_l'Ateneu
ORGANIZER:Tramoia Teatre
DESCRIPTION:a càrrec de Tramoia
URL:https://www.santceloni.cat/document.php?id=6055
END:VEVENT
END:VCALENDAR