BEGIN:VCALENDAR
VERSION:2.0
PRODID:-//Plone.org//NONSGML plone.app.event//EN
X-WR-TIMEZONE:Europe/Madrid
BEGIN:VEVENT
SUMMARY:Taller fusió Dansa Oriental i Dansa Contamporania
DTSTART;TZID=Europe/Madrid;VALUE=DATE-TIME:20100613T103000
DTEND;TZID=Europe/Madrid;VALUE=DATE-TIME:20100613T113000
DTSTAMP;VALUE=DATE-TIME:20260425T044830Z
UID:9bf31af50a64e7e574a4bad2851f982a
CREATED;VALUE=DATE-TIME:20100613T000000Z
CATEGORIES:Dansa
LOCATION:Sala de Ball Celodance
ORGANIZER:Associació Dansa Espritual del Ventre
COMMENT:Preu: Gratuït
DESCRIPTION:Associació Dansa Espritual del Ventre
URL:https://www.santceloni.cat/document.php?id=6063
END:VEVENT
END:VCALENDAR