BEGIN:VCALENDAR
VERSION:2.0
PRODID:-//Plone.org//NONSGML plone.app.event//EN
X-WR-TIMEZONE:Europe/Madrid
BEGIN:VEVENT
SUMMARY:Pòdium 2010
DTSTART;TZID=Europe/Madrid;VALUE=DATE-TIME:20100618T190000
DTEND;TZID=Europe/Madrid;VALUE=DATE-TIME:20100618T200000
DTSTAMP;VALUE=DATE-TIME:20260421T114744Z
UID:b6a01abf91a75a79ff8904443c1b1bfa
CREATED;VALUE=DATE-TIME:20100618T000000Z
LOCATION:Jardins Rectoria Vella - Jardins_de_la_Rectoria_Vella
DESCRIPTION:Reconeixement als èxits d'esportistes celonins
URL:https://www.santceloni.cat/document.php?id=6083
END:VEVENT
END:VCALENDAR