BEGIN:VCALENDAR
VERSION:2.0
PRODID:-//Plone.org//NONSGML plone.app.event//EN
X-WR-TIMEZONE:Europe/Madrid
BEGIN:VEVENT
SUMMARY:Mercat de productes del Montseny
DTSTART;TZID=Europe/Madrid;VALUE=DATE-TIME:20100703T100000
DTEND;TZID=Europe/Madrid;VALUE=DATE-TIME:20100703T110000
DTSTAMP;VALUE=DATE-TIME:20260421T001408Z
UID:a58a3111b9734f9e7b13887f649e5e9e
CREATED;VALUE=DATE-TIME:20100703T000000Z
CATEGORIES:Mostra
LOCATION:Plaça de la Vila - PlaçadelaVila_SantCeloni
COMMENT:Durada: fins a les 9 del vespre
DESCRIPTION:I Setmana Gastronòmica
URL:https://www.santceloni.cat/document.php?id=6091
END:VEVENT
END:VCALENDAR