BEGIN:VCALENDAR
VERSION:2.0
PRODID:-//Plone.org//NONSGML plone.app.event//EN
X-WR-TIMEZONE:Europe/Madrid
BEGIN:VEVENT
SUMMARY:El Montnegre encimbellat
DTSTART;TZID=Europe/Madrid;VALUE=DATE-TIME:20100613T090000
DTEND;TZID=Europe/Madrid;VALUE=DATE-TIME:20100613T100000
DTSTAMP;VALUE=DATE-TIME:20260425T061911Z
UID:9185f08ae0a170c7096eb58185d96db8
CREATED;VALUE=DATE-TIME:20100613T000000Z
LOCATION:Estació RENFE - Plaça de l'Estació
ORGANIZER:Parc del Montnegre i el Corredor i Ajuntament de Sant Celoni
DESCRIPTION:Passejades 2010
URL:https://www.santceloni.cat/document.php?id=6131
END:VEVENT
END:VCALENDAR